BEGIN:VCALENDAR
VERSION:2.0
PRODID:-//Emilia-Romagna Mamma - ECPv4.4.5//NONSGML v1.0//EN
CALSCALE:GREGORIAN
METHOD:PUBLISH
X-WR-CALNAME:Emilia-Romagna Mamma
X-ORIGINAL-URL:https://www.emiliaromagnamamma.it
X-WR-CALDESC:Events for Emilia-Romagna Mamma
BEGIN:VEVENT
DTSTART;TZID=Europe/Rome:20140920T090000
DTEND;TZID=Europe/Rome:20140920T150000
DTSTAMP:20260420T094639
CREATED:20140917T082309Z
LAST-MODIFIED:20140917T082309Z
UID:48033-1411203600-1411225200@www.emiliaromagnamamma.it
SUMMARY:I paesaggi del Parco in mountain bike
DESCRIPTION:Il Centro Visita del Parco di Santa Sofia propone un’escursione panoramica in mountain bike da Poggio alla Lastra alla Foresta della Lama\, alla scoperta dei panorami del Parco\, tra storia e natura\, in collaborazione con la guida Matteo Ranucci. Il ritrovo è al Centro Visita di Santa Sofia.\n\nPrenotazione obbligatoria: Centro Visita del Parco di Santa Sofia 0543 970249.
URL:https://www.emiliaromagnamamma.it/evento/i-paesaggi-parco-in-mountain-bike/
LOCATION:Via Nefetti 3\, Santa Sofia\, Italia
GEO:43.94742;11.90831
X-APPLE-STRUCTURED-LOCATION;VALUE=URI;X-ADDRESS=Via Nefetti 3 Santa Sofia Italia;X-APPLE-RADIUS=500;X-TITLE=Via Nefetti 3:geo:11.90831,43.94742
CATEGORIES:Natura
END:VEVENT
END:VCALENDAR