BEGIN:VCALENDAR
VERSION:2.0
PRODID:-//Emilia-Romagna Mamma - ECPv4.4.5//NONSGML v1.0//EN
CALSCALE:GREGORIAN
METHOD:PUBLISH
X-WR-CALNAME:Emilia-Romagna Mamma
X-ORIGINAL-URL:https://www.emiliaromagnamamma.it
X-WR-CALDESC:Events for Emilia-Romagna Mamma
BEGIN:VEVENT
DTSTART;TZID=Europe/Rome:20161031T190000
DTEND;TZID=Europe/Rome:20161031T230000
DTSTAMP:20260420T124408
CREATED:20161027T104216Z
LAST-MODIFIED:20161027T104216Z
UID:94387-1477940400-1477954800@www.emiliaromagnamamma.it
SUMMARY:A Borgo Montone un Halloween tra "percorso paura" e "dolcetto o scherzetto"
DESCRIPTION:Il programma prevede dalle 19 una cena su prenotazione\, con cappellacci al ragù più buffet assortito\, e uno stand gastronomico esterno. Alle 20 aprirà il rinnovato Percorso della Paura\, un inquietante tragitto da percorrere gratuitamente nella pineta di Borgo Montone. Dalle 22 bomboloni caldi per tutti presso il panificio Nasta.\n\nDal tramonto fino a notte fonda sarà possibile far visita alle case di Borgo Montone per il tradizionale “Dolcetto o scherzetto?”\n\n
URL:https://www.emiliaromagnamamma.it/evento/halloween-borgo-montone/
LOCATION:via Fiume Montone Abbandonato n. 312/b.\, Ravenna\, 48124\, Italia
GEO:44.4033389;12.1765609
X-APPLE-STRUCTURED-LOCATION;VALUE=URI;X-ADDRESS=via Fiume Montone Abbandonato n. 312/b. Ravenna 48124 Italia;X-APPLE-RADIUS=500;X-TITLE=via Fiume Montone Abbandonato n. 312/b.:geo:12.1765609,44.4033389
CATEGORIES:Halloween
END:VEVENT
END:VCALENDAR