BEGIN:VCALENDAR
VERSION:2.0
PRODID:-//Emilia-Romagna Mamma - ECPv4.4.5//NONSGML v1.0//EN
CALSCALE:GREGORIAN
METHOD:PUBLISH
X-WR-CALNAME:Emilia-Romagna Mamma
X-ORIGINAL-URL:https://www.emiliaromagnamamma.it
X-WR-CALDESC:Events for Emilia-Romagna Mamma
BEGIN:VEVENT
DTSTART;TZID=Europe/Rome:20150926T090000
DTEND;TZID=Europe/Rome:20150926T120000
DTSTAMP:20260420T190251
CREATED:20150916T074647Z
LAST-MODIFIED:20150916T074647Z
UID:71693-1443258000-1443268800@www.emiliaromagnamamma.it
SUMMARY:Corso di disostruzione delle vie aeree in età Pediatrica
DESCRIPTION:Il corso di disostruzione delle vie aeree si terrà presso la Sala "Buzzi" del Comune di Ravenna\nSabato 26 /9/2015   h. 9.00-12.00\nIl corso è gratuito ed aperto a tutti.\n\n
URL:https://www.emiliaromagnamamma.it/evento/corso-di-disostruzione-delle-vie-aeree-in-eta-pediatrica/
LOCATION:via Berlinguer\, 11\, Ravenna\, Italia
GEO:44.4033232;12.1932612
X-APPLE-STRUCTURED-LOCATION;VALUE=URI;X-ADDRESS=via Berlinguer 11 Ravenna Italia;X-APPLE-RADIUS=500;X-TITLE=via Berlinguer\, 11:geo:12.1932612,44.4033232
CATEGORIES:Corsi di disostruzione e primo soccorso pediatrico
END:VEVENT
END:VCALENDAR