BEGIN:VCALENDAR
VERSION:2.0
PRODID:-//Emilia-Romagna Mamma - ECPv4.4.5//NONSGML v1.0//EN
CALSCALE:GREGORIAN
METHOD:PUBLISH
X-WR-CALNAME:Emilia-Romagna Mamma
X-ORIGINAL-URL:http://www.emiliaromagnamamma.it
X-WR-CALDESC:Events for Emilia-Romagna Mamma
BEGIN:VEVENT
DTSTART;TZID=Europe/Rome:20140412T160000
DTEND;TZID=Europe/Rome:20140412T180000
DTSTAMP:20260420T150858
CREATED:20140411T081706Z
LAST-MODIFIED:20140411T081706Z
UID:36600-1397318400-1397325600@www.emiliaromagnamamma.it
SUMMARY:Storie di mostri e mostriciattoli”: letture
DESCRIPTION:Una serie di letture per affrontare le piccole paure dei bambini e riderci su.\n\nPer informazioni: 0543/984326.\n\n\n
URL:http://www.emiliaromagnamamma.it/evento/storie-di-mostri-e-mostriciattoli-letture/
LOCATION:Piazzetta della Misura\, 5\, Civitella di Romagna\, Italia
GEO:44.006589;11.9420562
X-APPLE-STRUCTURED-LOCATION;VALUE=URI;X-ADDRESS=Piazzetta della Misura 5 Civitella di Romagna Italia;X-APPLE-RADIUS=500;X-TITLE=Piazzetta della Misura\, 5:geo:11.9420562,44.006589
CATEGORIES:Letture
END:VEVENT
END:VCALENDAR