BEGIN:VCALENDAR
VERSION:2.0
PRODID:-//Emilia-Romagna Mamma - ECPv4.4.5//NONSGML v1.0//EN
CALSCALE:GREGORIAN
METHOD:PUBLISH
X-WR-CALNAME:Emilia-Romagna Mamma
X-ORIGINAL-URL:http://www.emiliaromagnamamma.it
X-WR-CALDESC:Events for Emilia-Romagna Mamma
BEGIN:VEVENT
DTSTART;TZID=Europe/Rome:20141129T170000
DTEND;TZID=Europe/Rome:20141129T190000
DTSTAMP:20260420T175640
CREATED:20141009T112242Z
LAST-MODIFIED:20141009T112242Z
UID:49885-1417280400-1417287600@www.emiliaromagnamamma.it
SUMMARY:"...e se incontrassi il LUPO?" letture per bambini da Liberamente
DESCRIPTION:Letture per bambini e genitori in collaborazione con Nati Per Leggere Ravenna.\nLe letture saranno come sempre gratuite\, di seguito il programma e i temi:\n- Sabato 13 dicembre alle 17 "Venghino venghino\, ad ammirare le meraviglie del circo!"\n- Domenica 21 dicembre alle 17 "Da dove viene Babbo Natale?"
URL:http://www.emiliaromagnamamma.it/evento/se-incontrassi-lupo-letture-per-bambini-liberamente/
LOCATION:viale Alberti\, 38\, Ravenna\, Italia
GEO:44.401051;12.1856649
X-APPLE-STRUCTURED-LOCATION;VALUE=URI;X-ADDRESS=viale Alberti 38 Ravenna Italia;X-APPLE-RADIUS=500;X-TITLE=viale Alberti\, 38:geo:12.1856649,44.401051
CATEGORIES:Letture
END:VEVENT
END:VCALENDAR