BEGIN:VCALENDAR
VERSION:2.0
PRODID:-//Emilia-Romagna Mamma - ECPv4.4.5//NONSGML v1.0//EN
CALSCALE:GREGORIAN
METHOD:PUBLISH
X-WR-CALNAME:Emilia-Romagna Mamma
X-ORIGINAL-URL:http://www.emiliaromagnamamma.it
X-WR-CALDESC:Events for Emilia-Romagna Mamma
BEGIN:VEVENT
DTSTART;TZID=Europe/Rome:20140510T100000
DTEND;TZID=Europe/Rome:20140510T113000
DTSTAMP:20260420T105016
CREATED:20140509T080426Z
LAST-MODIFIED:20140509T080426Z
UID:39026-1399716000-1399721400@www.emiliaromagnamamma.it
SUMMARY:"Riflettiamo insieme sui nostri bambini" incontri per genitori
DESCRIPTION:Inizia un ciclo di incontri dedicato alla relazione tra le diverse generazioni. Gli incontri\, tenuti dalla psicologa e psicoterapeuta Elisabetta Ciracò e sono organizzati insieme allo studio multiprofessionale L’Alveare\, il Nido d’infanzia La Casa di Mary Poppins e la Parafarmacia Naturalmente.\n\nEcco il calendario completo:\nSabato 10 maggio “Passaggi generazionali: nonni-genitori-figli”\nSabato 17 maggio: “I nonni\, tra risorsa e giusta distanza”\nSabato 24 maggio: “La comunicazione tra le generazioni: come possiamo capirci per aiutarci”.\nPer informazioni e iscrizioni: Francesca\, coordinatrice pedagogica 347 3112474
URL:http://www.emiliaromagnamamma.it/evento/riflettiamo-insieme-sui-nostri-bambini-incontri-per-genitori/
LOCATION:Viale Matteotti n\, 6\, Forlimpopoli\, Italia
GEO:44.185529;12.127156
X-APPLE-STRUCTURED-LOCATION;VALUE=URI;X-ADDRESS=Viale Matteotti n 6 Forlimpopoli Italia;X-APPLE-RADIUS=500;X-TITLE=Viale Matteotti n\, 6:geo:12.127156,44.185529
CATEGORIES:Per mamma e papà
END:VEVENT
END:VCALENDAR