BEGIN:VCALENDAR
VERSION:2.0
PRODID:-//Emilia-Romagna Mamma - ECPv4.4.5//NONSGML v1.0//EN
CALSCALE:GREGORIAN
METHOD:PUBLISH
X-WR-CALNAME:Emilia-Romagna Mamma
X-ORIGINAL-URL:http://www.emiliaromagnamamma.it
X-WR-CALDESC:Events for Emilia-Romagna Mamma
BEGIN:VEVENT
DTSTART;TZID=Europe/Rome:20140330T103000
DTEND;TZID=Europe/Rome:20140330T120000
DTSTAMP:20260420T133132
CREATED:20140328T133212Z
LAST-MODIFIED:20140328T133212Z
UID:34544-1396175400-1396180800@www.emiliaromagnamamma.it
SUMMARY:"Pettiblu' e i suoi amici": letture e racconti
DESCRIPTION:Elisa Mazzoli allieterà i suoi piccoli spettatori con storie di terra\, di mare e di cielo. Per scavare\, nuotare e volare con la fantasia......\n\n\n\nIngresso: gratuito\nInformazioni: 0541 618484\n
URL:http://www.emiliaromagnamamma.it/evento/pettiblu-e-i-suoi-amici-letture-e-racconti/
LOCATION:Via Rossini\, 7\, Misano Adriatico
GEO:43.9795749;12.689005
X-APPLE-STRUCTURED-LOCATION;VALUE=URI;X-ADDRESS=Via Rossini 7 Misano Adriatico;X-APPLE-RADIUS=500;X-TITLE=Via Rossini\, 7:geo:12.689005,43.9795749
END:VEVENT
END:VCALENDAR