BEGIN:VCALENDAR
VERSION:2.0
PRODID:-//Emilia-Romagna Mamma - ECPv4.4.5//NONSGML v1.0//EN
CALSCALE:GREGORIAN
METHOD:PUBLISH
X-WR-CALNAME:Emilia-Romagna Mamma
X-ORIGINAL-URL:http://www.emiliaromagnamamma.it
X-WR-CALDESC:Events for Emilia-Romagna Mamma
BEGIN:VEVENT
DTSTART;TZID=Europe/Rome:20140510T100000
DTEND;TZID=Europe/Rome:20140510T113000
DTSTAMP:20260420T122241
CREATED:20140509T084623Z
LAST-MODIFIED:20140509T084623Z
UID:39043-1399716000-1399721400@www.emiliaromagnamamma.it
SUMMARY:"Parliamo di pannolini lavabili" 
DESCRIPTION:\n\nTutto ciò che c'è da sapere sui pannolini lavabili di nuova generazione. Verranno distribuiti buoni acquisto ai genitori residenti a Forlì. A cura dell'Associazione "Nonsolociripà" e dell'Ufficio Ambiente. Ingresso libero. \n\nPer info: 0543/21013 – 30709 centrofamiglie@comune.forli.fc\n\n \n\n \n\n\n \n
URL:http://www.emiliaromagnamamma.it/evento/parliamo-di-pannolini-lavabili/
CATEGORIES:Per mamma e papà
END:VEVENT
END:VCALENDAR