BEGIN:VCALENDAR
VERSION:2.0
PRODID:-//Emilia-Romagna Mamma - ECPv4.4.5//NONSGML v1.0//EN
CALSCALE:GREGORIAN
METHOD:PUBLISH
X-WR-CALNAME:Emilia-Romagna Mamma
X-ORIGINAL-URL:http://www.emiliaromagnamamma.it
X-WR-CALDESC:Events for Emilia-Romagna Mamma
BEGIN:VEVENT
DTSTART;TZID=Europe/Rome:20150128T170000
DTEND;TZID=Europe/Rome:20150128T180000
DTSTAMP:20260420T145132
CREATED:20150128T102411Z
LAST-MODIFIED:20150128T102411Z
UID:58346-1422464400-1422468000@www.emiliaromagnamamma.it
SUMMARY:Lettura "Tutti lupi"
DESCRIPTION:Ultimo appuntamento con la rassegna per i più piccoli alla Biblioteca ragazzi in Malatestiana\, “L’angolino dei racconti”. \nMercoledì 28 gennaio alle 17 le animatrici Martina e Teresa proporranno la lettura di “Tutti lupi” per i bambini dai 6 ai 10 anni.\nSi tratta di un’iniziativa studiata per coinvolgere i bambini della città in un momento di divertimento e avvicinamento alla lettura. Mescolando la lettura con una forma di piccolo teatro per destare l’attenzione dei più piccoli\, l’Angolino dei racconti in queste settimane è riuscito a far recuperare alle famiglie una tradizione preziosa\, il racconto delle favole come facevano una volta le nonne con i nipotini.\nL’ingresso è libero.\nPer maggiori informazioni tel. 0547 610892.
URL:http://www.emiliaromagnamamma.it/evento/lettura-tutti-lupi/
LOCATION:piazza Maurizio Bufalini 1\, Cesena
GEO:44.1388482;12.2437212
X-APPLE-STRUCTURED-LOCATION;VALUE=URI;X-ADDRESS=piazza Maurizio Bufalini 1 Cesena;X-APPLE-RADIUS=500;X-TITLE=piazza Maurizio Bufalini 1:geo:12.2437212,44.1388482
CATEGORIES:Letture
END:VEVENT
END:VCALENDAR