BEGIN:VCALENDAR
VERSION:2.0
PRODID:-//Emilia-Romagna Mamma - ECPv4.4.5//NONSGML v1.0//EN
CALSCALE:GREGORIAN
METHOD:PUBLISH
X-WR-CALNAME:Emilia-Romagna Mamma
X-ORIGINAL-URL:http://www.emiliaromagnamamma.it
X-WR-CALDESC:Events for Emilia-Romagna Mamma
BEGIN:VEVENT
DTSTART;TZID=Europe/Rome:20150523T203000
DTEND;TZID=Europe/Rome:20150523T220000
DTSTAMP:20260420T161956
CREATED:20150518T075243Z
LAST-MODIFIED:20150518T075243Z
UID:66138-1432413000-1432418400@www.emiliaromagnamamma.it
SUMMARY:Laboratorio di teatro per bambini e adolescenti
DESCRIPTION:Ritornano i consueti appuntamenti per Nicole a cura dell’Associazione Diffusione Musica in collaborazione con la Parrocchia di Gatteo\, Var Associazione ragazzi e BCC Credito Cooperativo col patrocinio del Comune di Gatteo. Sabato 23 maggio alle ore 20.30 presso il Teatro Pagliughi sarà possibile gustarsi un assaggio di teatro partecipando a laboratori ad hoc.\n\n
URL:http://www.emiliaromagnamamma.it/evento/laboratorio-di-teatro-per-bambini-e-adolescenti/
LOCATION:Via Giuseppe Garibaldi\, 6/A\, Gatteo\, Italia
GEO:44.10878;12.385882
X-APPLE-STRUCTURED-LOCATION;VALUE=URI;X-ADDRESS=Via Giuseppe Garibaldi 6/A Gatteo Italia;X-APPLE-RADIUS=500;X-TITLE=Via Giuseppe Garibaldi\, 6/A:geo:12.385882,44.10878
CATEGORIES:Laboratorio,Spettacoli e proiezioni
END:VEVENT
END:VCALENDAR