BEGIN:VCALENDAR
VERSION:2.0
PRODID:-//Emilia-Romagna Mamma - ECPv4.4.5//NONSGML v1.0//EN
CALSCALE:GREGORIAN
METHOD:PUBLISH
X-WR-CALNAME:Emilia-Romagna Mamma
X-ORIGINAL-URL:http://www.emiliaromagnamamma.it
X-WR-CALDESC:Events for Emilia-Romagna Mamma
BEGIN:VEVENT
DTSTART;TZID=Europe/Rome:20151011T143000
DTEND;TZID=Europe/Rome:20151011T163000
DTSTAMP:20260420T103005
CREATED:20150911T112038Z
LAST-MODIFIED:20150911T112038Z
UID:71499-1444573800-1444581000@www.emiliaromagnamamma.it
SUMMARY:Domeniche in famiglia: forme ... informi
DESCRIPTION:\n\nDomenica 11 ottobre\, ore 14.30\nDomeniche ceramiche: Forme... Informi\nLaboratorio di manipolazione dell’argilla per tutta la famiglia\n\nUna passeggiata animata alla scoperta delle opere ceramiche più curiose esposte nella mostra dedicata al 59° Premio Faenza\, seguita da un divertente laboratorio ispirato alle opere osservate nelle sale del museo.\n\nTarget: famiglie\nDurata: 2 ore\, dalle 14.30 alle 16.30\nQuota individuale: 5.00 €\, gratuito per i bambini fino a 5 anni. Biglietto famiglia (2 adulti+2 bambini) 12 €.\n\nPer informazioni o prenotazioni:\nMuseo Internazionale delle Ceramiche in Faenza\nViale Baccarini 19 – 48018 Faenza RA\ntel.   335 1209933\ndidattica.mic@atlantide.net\n\n \n\n \n\n
URL:http://www.emiliaromagnamamma.it/evento/domeniche-in-famiglia-forme-informi/
LOCATION:Viale Baccarini\, 19\, Faenza\, 48018\, Italia
GEO:44.2893032;11.8809649
X-APPLE-STRUCTURED-LOCATION;VALUE=URI;X-ADDRESS=Viale Baccarini 19 Faenza 48018 Italia;X-APPLE-RADIUS=500;X-TITLE=Viale Baccarini\, 19:geo:11.8809649,44.2893032
CATEGORIES:Arte,Laboratorio
ORGANIZER;CN="Mic%20":MAILTO:didattica@micfaenza.org
END:VEVENT
END:VCALENDAR