BEGIN:VCALENDAR
VERSION:2.0
PRODID:-//Emilia-Romagna Mamma - ECPv4.4.5//NONSGML v1.0//EN
CALSCALE:GREGORIAN
METHOD:PUBLISH
X-WR-CALNAME:Emilia-Romagna Mamma
X-ORIGINAL-URL:http://www.emiliaromagnamamma.it
X-WR-CALDESC:Events for Emilia-Romagna Mamma
BEGIN:VEVENT
DTSTART;TZID=Europe/Rome:20141129T170000
DTEND;TZID=Europe/Rome:20141129T183000
DTSTAMP:20260420T214308
CREATED:20140917T081106Z
LAST-MODIFIED:20140917T081106Z
UID:48018-1417280400-1417285800@www.emiliaromagnamamma.it
SUMMARY:Costruendo "La porta degli elfi"
DESCRIPTION:L'associazione culturale Momini propone "La porta degli elfi" per bambini dai 4 anni. L'associazione si prepara alla magia del mese di Natale costruendo e decorando una piccola porticina dalla quale domani notte entrerà nelle vostre case un simpatico elfo. Costo 7 euro.
URL:http://www.emiliaromagnamamma.it/evento/costruendo-la-porta-degli-elfi/
LOCATION:Corso A. Diaz 62a\, Forlì\, Italia
GEO:44.2205479;12.0390305
X-APPLE-STRUCTURED-LOCATION;VALUE=URI;X-ADDRESS=Corso A. Diaz 62a Forlì Italia;X-APPLE-RADIUS=500;X-TITLE=Corso A. Diaz 62a:geo:12.0390305,44.2205479
CATEGORIES:Laboratorio
ORGANIZER;CN="Momini":MAILTO:momini.forli@gmail.com
END:VEVENT
END:VCALENDAR