BEGIN:VCALENDAR
VERSION:2.0
PRODID:-//Emilia-Romagna Mamma - ECPv4.4.5//NONSGML v1.0//EN
CALSCALE:GREGORIAN
METHOD:PUBLISH
X-WR-CALNAME:Emilia-Romagna Mamma
X-ORIGINAL-URL:http://www.emiliaromagnamamma.it
X-WR-CALDESC:Events for Emilia-Romagna Mamma
BEGIN:VEVENT
DTSTART;TZID=Europe/Rome:20160914T191000
DTEND;TZID=Europe/Rome:20160914T200000
DTSTAMP:20260420T090919
CREATED:20161110T091736Z
LAST-MODIFIED:20170426T093916Z
UID:95224-1473880200-1473883200@www.emiliaromagnamamma.it
SUMMARY:Corso gestanti in acqua da Physiomedica a Faenza
DESCRIPTION:Attraverso il contatto con un elemento naturale come l'acqua la donna può aumentare la propria coscienza corporea.\n\nProgramma corso: MERCOLEDÌ dalle 19.10 alle 20.00 e il SABATO dalle 9.00 alle 10.00.\n\nPrima prova gratuita su prenotazione.\n\n\n\n\nPhysiomedica è a Faenza in Via Malpighi 150.\nwww.physiomedica.it\ninfo@physiomedica.it\n0546/622031
URL:http://www.emiliaromagnamamma.it/evento/corso-gestanti-in-acqua-da-physiomedica-a-faenza/2016-09-14/
LOCATION:via Malpighi\, 150\, Faenza\, 48018\, Italia
GEO:44.3007076;11.8723256
X-APPLE-STRUCTURED-LOCATION;VALUE=URI;X-ADDRESS=via Malpighi 150 Faenza 48018 Italia;X-APPLE-RADIUS=500;X-TITLE=via Malpighi\, 150:geo:11.8723256,44.3007076
CATEGORIES:Corso pre parto Physiomedica
ATTACH;FMTTYPE=image/png:http://www.emiliaromagnamamma.it/wp-content/uploads/2015/10/logo-physiomedica.png
END:VEVENT
END:VCALENDAR